BEGIN:VCALENDAR
VERSION:2.0
PRODID:-//Queen Books - ECPv5.4.0.2//NONSGML v1.0//EN
CALSCALE:GREGORIAN
METHOD:PUBLISH
X-WR-CALNAME:Queen Books
X-ORIGINAL-URL:http://queenbooks.ca
X-WR-CALDESC:Events for Queen Books
BEGIN:VTIMEZONE
TZID:UTC
BEGIN:STANDARD
TZOFFSETFROM:+0000
TZOFFSETTO:+0000
TZNAME:UTC
DTSTART:20240101T000000
END:STANDARD
END:VTIMEZONE
BEGIN:VEVENT
DTSTART;TZID=UTC:20240731T180000
DTEND;TZID=UTC:20240731T200000
DTSTAMP:20260421T131840
CREATED:20240526T135906Z
LAST-MODIFIED:20240526T140102Z
UID:1366-1722448800-1722456000@queenbooks.ca
SUMMARY:Amir and the Jinn Princess Book Launch
DESCRIPTION:Join us to celebrate the release of M. T. Khan’s new middle grade novel\, Amir and the Jinn Princess. M. T. will be in conversation with Alina Khawaja (Maya’s Laws of Love). All welcome! \n\n\n\n\n\nIn this mesmerizing novel\, a wealthy young boy searching for his mother teams up with a fiery jinn princess all while battling in a tournament of heirs—and trying to keep his life from changing forever. \nTwelve-year-old Amir is one of the heirs to the Rafiq Bricks Company\, a wealthy brick kiln business in Pakistan—except he wants none of it. Seeing straight through the jeweled smiles and transactional conversations\, Amir would rather spend time in the courtyard garden\, where he can almost feel his missing mother’s presence again. \nAmir is devastated when his baba announces plans to remarry by the end of the summer\, dropping all searches to find Amir’s mother. It’s all a business move\, just like everything else in his life. His mother was the only one who allowed him to feel normal\, but the last anyone’s seen of her was a year ago. \nBut Amir isn’t ready to give up yet—determined to find his mother before his life changes forever\, Amir teams up with a high-spirited\, wide-eyed\, shape-shifting jinn princess named Shamsa. His exact opposite. The two make a deal—Shamsa will help Amir navigate the twisty and mysterious realm of jinn\, and in exchange Amir must use his wits to help Shamsa win a tournament of heirs and put her on the throne. \nAmir and Shamsa must contend with silver-tongued tricksters and magical rivals\, and a truth far more devastating than Amir ever expected.…
URL:http://queenbooks.ca/event/amir-and-the-jinn-princess-book-launch/
LOCATION:Queen Books\, 914 Queen St E\, Toronto\, Ontario\, M4M 1J5\, Canada
END:VEVENT
END:VCALENDAR